BEGIN:VCALENDAR
VERSION:2.0
PRODID:-//The Swaen - ECPv6.15.20//NONSGML v1.0//EN
CALSCALE:GREGORIAN
METHOD:PUBLISH
X-ORIGINAL-URL:https://theswaen.com
X-WR-CALDESC:Events for The Swaen
REFRESH-INTERVAL;VALUE=DURATION:PT1H
X-Robots-Tag:noindex
X-PUBLISHED-TTL:PT1H
BEGIN:VTIMEZONE
TZID:UTC
BEGIN:STANDARD
TZOFFSETFROM:+0000
TZOFFSETTO:+0000
TZNAME:UTC
DTSTART:20250101T000000
END:STANDARD
END:VTIMEZONE
BEGIN:VEVENT
DTSTART;VALUE=DATE:20260420
DTEND;VALUE=DATE:20260423
DTSTAMP:20260420T185226
CREATED:20251030T123218Z
LAST-MODIFIED:20251030T123218Z
UID:14637-1776643200-1776902399@theswaen.com
SUMMARY:Craft Brewers Conference 2026
DESCRIPTION:We’re excited to announce that Craft Brewers Conference 2026 – hosted by the Brewers Association – will take place in Philadelphia\, PA from 20-22 April. Together with our partner LD Carlson we will showcase our dedication to specialty malts and their role in crafting distinctive beers. We will highlight how selecting the right malts can elevate flavour\, balance and beer identity for craft brewers. \nThe conference offers a rich agenda: expert-led seminars covering technical brewing methods\, quality control\, sustainability\, legal and regulatory issues\, and business strategy. On the tradeshow floor\, you can explore the latest innovations in ingredients\, equipment and brewing services. We invite you to visit our stand\, engage with the team\, and discover how our range of malts can support your brewing ambitions. Whether you’re expanding a brewery or developing a bold new beer style\, we’re ready to collaborate and grow with you. \nSave the dates\, mark your calendar\, and join us in Philadelphia for three days of connection\, knowledge and brewing passion. We look forward to seeing you at Craft Brewers Conference 2026!
URL:https://theswaen.com/event/craft-brewers-conference-2026/
LOCATION:The Pennsylvania Convention Center\, 1101 Arch St.\, Philadelphia\, PA\, 19107\, United States
ATTACH;FMTTYPE=image/jpeg:https://theswaen.com/wp-content/uploads/2026-CraftBrewersConference.jpg
END:VEVENT
END:VCALENDAR